BEGIN:VCALENDAR
VERSION:2.0
PRODID:-//Regionieuws Hoogeveen - ECPv6.15.18//NONSGML v1.0//EN
CALSCALE:GREGORIAN
METHOD:PUBLISH
X-WR-CALNAME:Regionieuws Hoogeveen
X-ORIGINAL-URL:https://regionieuwshoogeveen.nl
X-WR-CALDESC:Evenementen voor Regionieuws Hoogeveen
REFRESH-INTERVAL;VALUE=DURATION:PT1H
X-Robots-Tag:noindex
X-PUBLISHED-TTL:PT1H
BEGIN:VTIMEZONE
TZID:Europe/Amsterdam
BEGIN:DAYLIGHT
TZOFFSETFROM:+0100
TZOFFSETTO:+0200
TZNAME:CEST
DTSTART:20250330T010000
END:DAYLIGHT
BEGIN:STANDARD
TZOFFSETFROM:+0200
TZOFFSETTO:+0100
TZNAME:CET
DTSTART:20251026T010000
END:STANDARD
BEGIN:DAYLIGHT
TZOFFSETFROM:+0100
TZOFFSETTO:+0200
TZNAME:CEST
DTSTART:20260329T010000
END:DAYLIGHT
BEGIN:STANDARD
TZOFFSETFROM:+0200
TZOFFSETTO:+0100
TZNAME:CET
DTSTART:20261025T010000
END:STANDARD
BEGIN:DAYLIGHT
TZOFFSETFROM:+0100
TZOFFSETTO:+0200
TZNAME:CEST
DTSTART:20270328T010000
END:DAYLIGHT
BEGIN:STANDARD
TZOFFSETFROM:+0200
TZOFFSETTO:+0100
TZNAME:CET
DTSTART:20271031T010000
END:STANDARD
END:VTIMEZONE
BEGIN:VEVENT
DTSTART;TZID=Europe/Amsterdam:20260607T110000
DTEND;TZID=Europe/Amsterdam:20260607T153000
DTSTAMP:20260421T113516
CREATED:20260418T163649Z
LAST-MODIFIED:20260415T133945Z
UID:118549-1780830000-1780846200@regionieuwshoogeveen.nl
SUMMARY:Bentinckspark Obstacle run
DESCRIPTION:Op zondag 7 juni 2026 wordt het Bentinckspark opnieuw omgetoverd tot één groot parcours vol uitdagingen voor jong én oud!\nDit sportieve evenement wordt georganiseerd door VV Hoogeveen en HAC ’63.\n\n\nDurf jij het aan om mee te doen? Schrijf je dan nu in en ga de uitdaging aan!\n\n\n\nProgramma & Afstanden:\n 11.00 uur – 400m (t/m 5 jaar)\n 11.15 uur – 800m (t/m 8 jaar)\n 11.30 uur – 1200m (t/m 12 jaar & A-atleten)\n Vanaf 13.30 uur (gefaseerde start) – 5 km & 10 km (vanaf 10 jaar)\n\n\n\nPraktische info:\n Inschrijven: www.inschrijven.nl\n Afstanden t/m 1200 meter: GRATIS deelname!\n 5 km & 10 km:\n• Voorinschrijving €10\,00 (t/m 5 juni)\n• Na-inschrijving €12\,50\n\n\n Meer info: www.bentincksparkrun.nl\nContact: woc@hac63.nl
URL:https://regionieuwshoogeveen.nl/evenement/bentinckspark-obstacle-run/
ATTACH;FMTTYPE=image/jpeg:https://regionieuwshoogeveen.nl/wp-content/uploads/2026/04/obstacklerun.jpg
END:VEVENT
END:VCALENDAR