BEGIN:VCALENDAR
VERSION:2.0
PRODID:-//Regionieuws Hoogeveen - ECPv6.15.18//NONSGML v1.0//EN
CALSCALE:GREGORIAN
METHOD:PUBLISH
X-WR-CALNAME:Regionieuws Hoogeveen
X-ORIGINAL-URL:https://regionieuwshoogeveen.nl
X-WR-CALDESC:Evenementen voor Regionieuws Hoogeveen
REFRESH-INTERVAL;VALUE=DURATION:PT1H
X-Robots-Tag:noindex
X-PUBLISHED-TTL:PT1H
BEGIN:VTIMEZONE
TZID:Europe/Amsterdam
BEGIN:DAYLIGHT
TZOFFSETFROM:+0100
TZOFFSETTO:+0200
TZNAME:CEST
DTSTART:20240331T010000
END:DAYLIGHT
BEGIN:STANDARD
TZOFFSETFROM:+0200
TZOFFSETTO:+0100
TZNAME:CET
DTSTART:20241027T010000
END:STANDARD
BEGIN:DAYLIGHT
TZOFFSETFROM:+0100
TZOFFSETTO:+0200
TZNAME:CEST
DTSTART:20250330T010000
END:DAYLIGHT
BEGIN:STANDARD
TZOFFSETFROM:+0200
TZOFFSETTO:+0100
TZNAME:CET
DTSTART:20251026T010000
END:STANDARD
BEGIN:DAYLIGHT
TZOFFSETFROM:+0100
TZOFFSETTO:+0200
TZNAME:CEST
DTSTART:20260329T010000
END:DAYLIGHT
BEGIN:STANDARD
TZOFFSETFROM:+0200
TZOFFSETTO:+0100
TZNAME:CET
DTSTART:20261025T010000
END:STANDARD
END:VTIMEZONE
BEGIN:VEVENT
DTSTART;TZID=Europe/Amsterdam:20250809T100000
DTEND;TZID=Europe/Amsterdam:20250810T170000
DTSTAMP:20260422T211300
CREATED:20250729T140948Z
LAST-MODIFIED:20250807T073633Z
UID:110622-1754733600-1754845200@regionieuwshoogeveen.nl
SUMMARY:9 & 10 augustus Open Tuinen Carrousel drenthe
DESCRIPTION:Op 9 en 10 augustus van 10.30 tot 17.00 uur gaan er rond Hoogeveen en Ruinen 20 tuinen open voor belangstellenden. voor meer informatie zie; http://www.hoogeveen.groei.nl\nof ; http://www.opentuinencarrouseldrenthe.nl \nBinnen de regio Drenthe zullen de 7 afdelingen van Groei & Bloei gedurende vijf weekenden tuinen openen voor bezoekers onder de naam Open Tuinen Carrousel Drenthe. \nIn de maanden juli\, augustus en september zijn er iedere keer 2 of 3 afdelingen aan de beurt om hun tuinen open te stellen.\nElk jaar wisselen we de weekenden over de afdelingen\, dus als een afdeling dit jaar in juli aan de beurt is\, dan zijn ze volgend jaar in augustus aan de beurt. Op die manier kunnen de bezoekers gedurende de jaren dezelfde tuinen op verschillende momenten in het jaar bezoeken. \nIn mei (tijdens het Voorjaarstuinenweekend) en in juni (tijdens het Landelijke Open Tuinen Weekend) openen alle afdelingen hun tuinen. \nJe hoeft geen lid te zijn van Groei & Bloei om mee te doen en je tuin open te stellen.
URL:https://regionieuwshoogeveen.nl/evenement/9-10-augustus-open-tuinen-carrousel-drenthe/
ATTACH;FMTTYPE=image/jpeg:https://regionieuwshoogeveen.nl/wp-content/uploads/2025/07/zonnebloem.jpg
END:VEVENT
END:VCALENDAR