BEGIN:VCALENDAR
VERSION:2.0
PRODID:-//Regionieuws Hoogeveen - ECPv6.15.18//NONSGML v1.0//EN
CALSCALE:GREGORIAN
METHOD:PUBLISH
X-WR-CALNAME:Regionieuws Hoogeveen
X-ORIGINAL-URL:https://regionieuwshoogeveen.nl
X-WR-CALDESC:Evenementen voor Regionieuws Hoogeveen
REFRESH-INTERVAL;VALUE=DURATION:PT1H
X-Robots-Tag:noindex
X-PUBLISHED-TTL:PT1H
BEGIN:VTIMEZONE
TZID:Europe/Amsterdam
BEGIN:DAYLIGHT
TZOFFSETFROM:+0100
TZOFFSETTO:+0200
TZNAME:CEST
DTSTART:20250330T010000
END:DAYLIGHT
BEGIN:STANDARD
TZOFFSETFROM:+0200
TZOFFSETTO:+0100
TZNAME:CET
DTSTART:20251026T010000
END:STANDARD
BEGIN:DAYLIGHT
TZOFFSETFROM:+0100
TZOFFSETTO:+0200
TZNAME:CEST
DTSTART:20260329T010000
END:DAYLIGHT
BEGIN:STANDARD
TZOFFSETFROM:+0200
TZOFFSETTO:+0100
TZNAME:CET
DTSTART:20261025T010000
END:STANDARD
BEGIN:DAYLIGHT
TZOFFSETFROM:+0100
TZOFFSETTO:+0200
TZNAME:CEST
DTSTART:20270328T010000
END:DAYLIGHT
BEGIN:STANDARD
TZOFFSETFROM:+0200
TZOFFSETTO:+0100
TZNAME:CET
DTSTART:20271031T010000
END:STANDARD
END:VTIMEZONE
BEGIN:VEVENT
DTSTART;TZID=Europe/Amsterdam:20260407T130000
DTEND;TZID=Europe/Amsterdam:20260407T150000
DTSTAMP:20260421T113829
CREATED:20260407T074317Z
LAST-MODIFIED:20260407T074317Z
UID:118301-1775566800-1775574000@regionieuwshoogeveen.nl
SUMMARY:4e editie jachtseizoen: Winkelend en wandelend publiek in het Hoogeveense centrum zijn gewaarschuwd
DESCRIPTION:Op dinsdag 14 april 2026 gaan de eerstejaars VMBO-leerlingen van Eduwiek de uitdaging aan tijdens de vierde editie van Het Jachtseizoen. Geïnspireerd op het populaire tv-programma van StukTV proberen de jongeren uit handen te blijven van de politie en handhavers. Na een korte presentatie op school start het spannende spel op het terrein tussen Eduwiek\, de Hoofdstraat en Het Haagje; een groot gebied waar de leerlingen zich vrij kunnen bewegen. \n  \nHet doel? Op drie verschillende plekken een stempel bemachtigen zonder gepakt te worden. Wie drie stempels verzamelt én uit handen blijft van de politie en boa’s\, wint het spel. Het Jachtseizoen is een leuke\, actieve manier voor jongeren om op een positieve manier kennis te maken met de politie\, handhaving en het jongerenwerk van SWW. Zo ontdekken ze wie er voor hen klaarstaan\, wat deze mensen doen en bij wie ze terecht kunnen met vragen of zorgen. De activiteit is een samenwerking tussen de politie\, handhaving\, Eduwiek en het jongerenwerk van SWW. Het spel duurt van circa 13.00 tot 15.00 uur. Winkelend en wandelend publiek in het Hoogeveense centrum is dus gewaarschuwd. Foto: Martin Schonewille.
URL:https://regionieuwshoogeveen.nl/evenement/4e-editie-jachtseizoen-winkelend-en-wandelend-publiek-in-het-hoogeveense-centrum-zijn-gewaarschuwd/
ATTACH;FMTTYPE=image/jpeg:https://regionieuwshoogeveen.nl/wp-content/uploads/2025/05/jachtseizoen-eduwiek-28-scaled.jpg
END:VEVENT
END:VCALENDAR