BEGIN:VCALENDAR
VERSION:2.0
PRODID:-//Regionieuws Hoogeveen - ECPv6.15.18//NONSGML v1.0//EN
CALSCALE:GREGORIAN
METHOD:PUBLISH
X-WR-CALNAME:Regionieuws Hoogeveen
X-ORIGINAL-URL:https://regionieuwshoogeveen.nl
X-WR-CALDESC:Evenementen voor Regionieuws Hoogeveen
REFRESH-INTERVAL;VALUE=DURATION:PT1H
X-Robots-Tag:noindex
X-PUBLISHED-TTL:PT1H
BEGIN:VTIMEZONE
TZID:Europe/Amsterdam
BEGIN:DAYLIGHT
TZOFFSETFROM:+0100
TZOFFSETTO:+0200
TZNAME:CEST
DTSTART:20250330T010000
END:DAYLIGHT
BEGIN:STANDARD
TZOFFSETFROM:+0200
TZOFFSETTO:+0100
TZNAME:CET
DTSTART:20251026T010000
END:STANDARD
BEGIN:DAYLIGHT
TZOFFSETFROM:+0100
TZOFFSETTO:+0200
TZNAME:CEST
DTSTART:20260329T010000
END:DAYLIGHT
BEGIN:STANDARD
TZOFFSETFROM:+0200
TZOFFSETTO:+0100
TZNAME:CET
DTSTART:20261025T010000
END:STANDARD
BEGIN:DAYLIGHT
TZOFFSETFROM:+0100
TZOFFSETTO:+0200
TZNAME:CEST
DTSTART:20270328T010000
END:DAYLIGHT
BEGIN:STANDARD
TZOFFSETFROM:+0200
TZOFFSETTO:+0100
TZNAME:CET
DTSTART:20271031T010000
END:STANDARD
END:VTIMEZONE
BEGIN:VEVENT
DTSTART;TZID=Europe/Amsterdam:20260217T080000
DTEND;TZID=Europe/Amsterdam:20260217T170000
DTSTAMP:20260421T120718
CREATED:20260217T100401Z
LAST-MODIFIED:20260217T100401Z
UID:116959-1771315200-1771347600@regionieuwshoogeveen.nl
SUMMARY:4 Mijl van Emmen viert jubileum met grote route-update en inclusieve vernieuwingen
DESCRIPTION:Emmen maakt zich op voor een bijzonder sportief hoogtepunt. Op zondag 12 april\n2026 vindt de 10e editie van de Peter van Dijk Projects 4 Mijl van Emmen plaats. De jubileumeditie staat in het\nteken van vernieuwing\, beleving en inclusiviteit. Met vernieuwde routes\, nieuwe onderdelen en extra aandacht\nvoor sfeer en beleving zet de organisatie een volgende stap in de doorontwikkeling van dit toonaangevende\nhardloopevenement.\nRoute update 4 Mijl – De 4 Mijl (Business Run) krijgt een ingrijpende upgrade. De start blijft op de iconische\nplek in de tunnel bij Station Emmen Zuid\, waarna het parcours voor een groot deel volledig over de weg loopt.\nDeelnemers lopen meer meters door het centrum\, beleven een unieke passage door de Hondsrugtunnel en\nfinishen op het Raadhuisplein na een extra ronde om het gemeentehuis. Deze aanpassingen zorgen voor meer\nruimte\, meer sfeer en vooral meer loopcomfort. Ook de 8 Mijl profiteert hiervan: het tweede deel van deze\nafstand loopt over het vernieuwde 4-Mijl-parcours\, wat door de organisatie wordt gezien als een forse\nkwaliteitsimpuls.\nRoute update 8 Mijl – De 8 Mijl van Emmen combineert stad\, natuur en tempo. Met start en finish op het\nRaadhuisplein voert de route langs water\, groen en woonwijken richting Delftlanden\, met onder meer een\nvernieuwd traject over de Nieuw Amsterdamsestraat en dezelfde sfeervolle finale als de 4 Mijl. De organisatie\nspreekt van een “mooie update” waar jarenlang naar is toegewerkt.\nKids Run – Ook voor de jongste deelnemers is er goed nieuws. De Kids Run krijgt in 2026 een vernieuwde opzet\,\nmet gezamenlijke warming-ups per leeftijdscategorie (in de startvakken)\, begeleiding door het UNICEF-team\nvan start tot finish en een upgrade van het finish- en uitloopgebied op het Raadhuisplein. Uiteraard ontbreekt\nook hier de passage door de Hondsrugtunnel niet.\nNieuw – de Unieke Kilometer -Nieuw tijdens de jubileumeditie is de Unieke Kilometer: een laagdrempelig\nonderdeel voor deelnemers met een fysieke of mentale beperking\, of voor mensen die herstellen van ziekte of\neen operatie. Dankzij samenwerking met onder meer gemeente Emmen en diverse maatschappelijke en\nsportieve organisaties wordt de 4 Mijl van Emmen hiermee nog inclusiever. De Unieke Kilometer vormt op 12\napril de officiële en volwaardige aftrap van de jubileumeditie\, met uiteraard ook volop aandacht is voor\nveiligheid\, sfeer en beleving voor deze deelnemers.\nDe vernieuwingen bij de Peter van Dijk Projects 4 Mijl van Emmen passen binnen een bredere ontwikkeling\nwaarin Drenthe zich steeds nadrukkelijker profileert als hardloopprovincie. De vijf grootste\nhardloopevenementen in de regio trekken gezamenlijk inmiddels ruim 25.000 deelnemers. De 4 Mijl van\nEmmen wordt daarbij in recente publicaties genoemd als één van de aanjagers van deze groei\, met een\naantoonbare positieve bijdrage aan sportdeelname\, stadspromotie en de lokale economie.\nNaast het hardloopprogramma is er volop aandacht voor beleving: extra muziek langs het parcours\, een\nfeestelijk finishgebied op het Raadhuisplein en een speciaal ontworpen jubileummedaille met een gouden\nrandje. De organisatie werkt met volle overtuiging toe naar één doel: van de 10e editie een onvergetelijk\nhardloopfeest maken voor Emmen en ver daarbuiten.\nInschrijven en extra info\nGa voor meer informatie (o.a. over de route updates) en tickets via www.4mijlvanemmen.nl
URL:https://regionieuwshoogeveen.nl/evenement/4-mijl-van-emmen-viert-jubileum-met-grote-route-update-en-inclusieve-vernieuwingen/
ATTACH;FMTTYPE=image/jpeg:https://regionieuwshoogeveen.nl/wp-content/uploads/2026/02/4-Mijl-2025-1116.jpg
END:VEVENT
END:VCALENDAR